BEGIN:VCALENDAR
VERSION:2.0
PRODID:-//Rederijkerskamer de Bloem - ECPv6.2.9//NONSGML v1.0//EN
CALSCALE:GREGORIAN
METHOD:PUBLISH
X-WR-CALNAME:Rederijkerskamer de Bloem
X-ORIGINAL-URL:https://www.rederijkerskamerdebloem.nl
X-WR-CALDESC:Evenementen voor Rederijkerskamer de Bloem
REFRESH-INTERVAL;VALUE=DURATION:PT1H
X-Robots-Tag:noindex
X-PUBLISHED-TTL:PT1H
BEGIN:VTIMEZONE
TZID:Europe/Amsterdam
BEGIN:DAYLIGHT
TZOFFSETFROM:+0100
TZOFFSETTO:+0200
TZNAME:CEST
DTSTART:20230326T010000
END:DAYLIGHT
BEGIN:STANDARD
TZOFFSETFROM:+0200
TZOFFSETTO:+0100
TZNAME:CET
DTSTART:20231029T010000
END:STANDARD
BEGIN:DAYLIGHT
TZOFFSETFROM:+0100
TZOFFSETTO:+0200
TZNAME:CEST
DTSTART:20240331T010000
END:DAYLIGHT
BEGIN:STANDARD
TZOFFSETFROM:+0200
TZOFFSETTO:+0100
TZNAME:CET
DTSTART:20241027T010000
END:STANDARD
END:VTIMEZONE
BEGIN:VEVENT
DTSTART;TZID=Europe/Amsterdam:20240309T200000
DTEND;TZID=Europe/Amsterdam:20240309T200000
DTSTAMP:20260423T002957
CREATED:20231102T193510Z
LAST-MODIFIED:20240131T091043Z
UID:573-1710014400-1710014400@www.rederijkerskamerdebloem.nl
SUMMARY:Sjongejongejonge..... 9 maart 2024
DESCRIPTION:Sjongejongejonge…..\neen doldwaze klucht van Aad Caspers in drie bedrijven zonder olifanten en kamelen (want die zitten er niet in) \nEen aan lager wal geraakte goochelaar\, een excentrieke student-vlinderverzamelaar\, een vrouw die zich de sterkste vrouw ter wereld noemt\, een artieste in de dop vormen de platzak zijnde bewoners van een verlopen pension\, beheerd door het echtpaar Zoutewater. Er gebeuren gekke… eigenlijk t‚ gekke dingen in het pension. Een verlopen cowboy komt op bezoek en treft er baas Zoutewater die zich niet zo goed voelt. De goochelaar weet overal en ook daar wel raad op en brouwt voor hem een drankje. Had hij dat maar niet opgedronken! Rampzalig komisch zijn de gevolgen. Want de goochelaar heeft niet goed gegoocheld. Daardoor verschijnt zelfs een aap op het toneel die geen aap blijkt te zijn. En ook de verlopen cowboy heeft een verrassing in petto. Dankzij zijn centen begint voor de failliete boel en z’n bewoners de zon weer te schijnen. \n\n\n    				\n		\n					\n					\n									\n				\n\n		\n						\n															Ticket betellen
URL:https://www.rederijkerskamerdebloem.nl/index.php/event/sjongejongejonge-9-maart-2023/
LOCATION:Dorpshuis de Wijk\, Dorpsstraat 78\, 7958 AW\, de Wijk\, Nederland
ATTACH;FMTTYPE=image/jpeg:https://www.rederijkerskamerdebloem.nl/wp-content/uploads/2023/10/poster-sjonge1.jpg
END:VEVENT
BEGIN:VEVENT
DTSTART;TZID=Europe/Amsterdam:20240308T200000
DTEND;TZID=Europe/Amsterdam:20240308T200000
DTSTAMP:20260423T002957
CREATED:20231024T184033Z
LAST-MODIFIED:20240131T091014Z
UID:515-1709928000-1709928000@www.rederijkerskamerdebloem.nl
SUMMARY:Sjongejongejonge.... 8 maart 2024
DESCRIPTION:Sjongejongejonge…..\neen doldwaze klucht van Aad Caspers in drie bedrijven zonder olifanten en kamelen (want die zitten er niet in) \nEen aan lager wal geraakte goochelaar\, een excentrieke student-vlinderverzamelaar\, een vrouw die zich de sterkste vrouw ter wereld noemt\, een artieste in de dop vormen de platzak zijnde bewoners van een verlopen pension\, beheerd door het echtpaar Zoutewater. Er gebeuren gekke… eigenlijk t‚ gekke dingen in het pension. Een verlopen cowboy komt op bezoek en treft er baas Zoutewater die zich niet zo goed voelt. De goochelaar weet overal en ook daar wel raad op en brouwt voor hem een drankje. Had hij dat maar niet opgedronken! Rampzalig komisch zijn de gevolgen. Want de goochelaar heeft niet goed gegoocheld. Daardoor verschijnt zelfs een aap op het toneel die geen aap blijkt te zijn. En ook de verlopen cowboy heeft een verrassing in petto. Dankzij zijn centen begint voor de failliete boel en z’n bewoners de zon weer te schijnen. \n\n\n    				\n		\n					\n					\n									\n				\n\n		\n						\n															Ticket betellen
URL:https://www.rederijkerskamerdebloem.nl/index.php/event/sjongejongejonge/
LOCATION:Dorpshuis de Wijk\, Dorpsstraat 78\, 7958 AW\, de Wijk\, Nederland
ATTACH;FMTTYPE=image/jpeg:https://www.rederijkerskamerdebloem.nl/wp-content/uploads/2023/10/poster-sjonge1.jpg
END:VEVENT
BEGIN:VEVENT
DTSTART;TZID=Europe/Amsterdam:20230401T200000
DTEND;TZID=Europe/Amsterdam:20230401T200000
DTSTAMP:20260423T002957
CREATED:20221219T161756Z
LAST-MODIFIED:20230201T204141Z
UID:96-1680379200-1680379200@www.rederijkerskamerdebloem.nl
SUMMARY:Voorstelling 2023 "Bruidzilla" 2e avond
DESCRIPTION:Ticket betellen
URL:https://www.rederijkerskamerdebloem.nl/index.php/event/voorstelling-2023-bruidzilla-2e-avond/
LOCATION:Dorpshuis de Wijk\, Dorpsstraat 78\, 7958 AW\, de Wijk\, Nederland
ATTACH;FMTTYPE=image/jpeg:https://www.rederijkerskamerdebloem.nl/wp-content/uploads/2023/02/bruidzilla5-A4-scaled.jpg
END:VEVENT
BEGIN:VEVENT
DTSTART;TZID=Europe/Amsterdam:20230331T200000
DTEND;TZID=Europe/Amsterdam:20230331T200000
DTSTAMP:20260423T002957
CREATED:20221219T161359Z
LAST-MODIFIED:20230201T221605Z
UID:89-1680292800-1680292800@www.rederijkerskamerdebloem.nl
SUMMARY:Voorstelling 2023 "Bruidzilla"
DESCRIPTION:Ticket betellen
URL:https://www.rederijkerskamerdebloem.nl/index.php/event/89/
LOCATION:Dorpshuis de Wijk\, Dorpsstraat 78\, 7958 AW\, de Wijk\, Nederland
ATTACH;FMTTYPE=image/jpeg:https://www.rederijkerskamerdebloem.nl/wp-content/uploads/2023/02/bruidzilla5-A4-scaled.jpg
END:VEVENT
END:VCALENDAR