BEGIN:VCALENDAR
VERSION:2.0
PRODID:-//Rederijkerskamer de Bloem - ECPv6.2.9//NONSGML v1.0//EN
CALSCALE:GREGORIAN
METHOD:PUBLISH
X-WR-CALNAME:Rederijkerskamer de Bloem
X-ORIGINAL-URL:https://www.rederijkerskamerdebloem.nl
X-WR-CALDESC:Evenementen voor Rederijkerskamer de Bloem
REFRESH-INTERVAL;VALUE=DURATION:PT1H
X-Robots-Tag:noindex
X-PUBLISHED-TTL:PT1H
BEGIN:VTIMEZONE
TZID:Europe/Amsterdam
BEGIN:DAYLIGHT
TZOFFSETFROM:+0100
TZOFFSETTO:+0200
TZNAME:CEST
DTSTART:20260329T010000
END:DAYLIGHT
BEGIN:STANDARD
TZOFFSETFROM:+0200
TZOFFSETTO:+0100
TZNAME:CET
DTSTART:20261025T010000
END:STANDARD
END:VTIMEZONE
BEGIN:VEVENT
DTSTART;TZID=Europe/Amsterdam:20260410T200000
DTEND;TZID=Europe/Amsterdam:20260410T200000
DTSTAMP:20260422T235957
CREATED:20251026T154450Z
LAST-MODIFIED:20260226T123647Z
UID:756-1775851200-1775851200@www.rederijkerskamerdebloem.nl
SUMMARY:t'Is weer prijs Voorstelling op vrijdag 10 april 2026
DESCRIPTION:De Bloem presenteert  t’Is weer prijs”  Een klucht / komedie van Henk Sloots. Na afloop is weer de grote verloting met veel mooie prijzen. \nAanvang vrijdag- en zaterdagavond: 20.00 uur en zaterdagmiddag: 13.30 uur. Entree: €10\,-. Kaarten in de voorverkoop online op www.dorpshuisdewijk.nl en bij Dorpshuis De Wijk\, Dorpsstraat 78\, de Wijk. Zaal open 30 min. voor aanvang Info: toneel@rederijkerskamerdebloem.nl reserveringen: info@dorpshuisdewijk.nl tel. 0522 444200 \n  \n  \n\n\n    				\n		\n					\n					\n									\n				\n\n		\n						\n															Ticket betellen
URL:https://www.rederijkerskamerdebloem.nl/index.php/event/tis-weer-prijs-voorstelling-op-10-en-11-april-2026/
LOCATION:Dorpshuis de Wijk\, Dorpsstraat 78\, 7958 AW\, de Wijk\, Nederland
ATTACH;FMTTYPE=image/jpeg:https://www.rederijkerskamerdebloem.nl/wp-content/uploads/2025/10/3e-poster-klein.jpg
END:VEVENT
BEGIN:VEVENT
DTSTART;TZID=Europe/Amsterdam:20260411T133000
DTEND;TZID=Europe/Amsterdam:20260411T170000
DTSTAMP:20260422T235957
CREATED:20260226T122125Z
LAST-MODIFIED:20260226T123621Z
UID:828-1775914200-1775926800@www.rederijkerskamerdebloem.nl
SUMMARY:t'Is weer Prijs  Voorstelling op zaterdagmiddag 11 april 2026
DESCRIPTION:De Bloem presenteert  t’Is weer prijs”  Een klucht / komedie van Henk Sloots. Na afloop is weer de grote verloting met veel mooie prijzen. \nAanvang vrijdag- en zaterdagavond: 20.00 uur en zaterdagmiddag: 13.30 uur. Entree: €10\,-. Kaarten in de voorverkoop online op www.dorpshuisdewijk.nl en bij Dorpshuis De Wijk\, Dorpsstraat 78\, de Wijk. Zaal open 30 min. voor aanvang Info: toneel@rederijkerskamerdebloem.nl reserveringen: info@dorpshuisdewijk.nl tel. 0522 444200 \n\n\n    				\n		\n					\n					\n									\n				\n\n		\n						\n															Ticket betellen
URL:https://www.rederijkerskamerdebloem.nl/index.php/event/tis-weer-prijs-voorstelling-op-zaterdagmiddag-11-april-2026/
LOCATION:Dorpshuis de Wijk\, Dorpsstraat 78\, 7958 AW\, de Wijk\, Nederland
ATTACH;FMTTYPE=image/jpeg:https://www.rederijkerskamerdebloem.nl/wp-content/uploads/2025/10/3e-poster-klein.jpg
END:VEVENT
BEGIN:VEVENT
DTSTART;TZID=Europe/Amsterdam:20260411T200000
DTEND;TZID=Europe/Amsterdam:20260411T200000
DTSTAMP:20260422T235957
CREATED:20251026T154821Z
LAST-MODIFIED:20260226T123308Z
UID:762-1775937600-1775937600@www.rederijkerskamerdebloem.nl
SUMMARY:t'Is weer prijs Voorstelling op zaterdagavond 11 april 2026
DESCRIPTION:De Bloem presenteert  t’Is weer prijs”  Een klucht / komedie van Henk Sloots. Na afloop is weer de grote verloting met veel mooie prijzen. \nAanvang vrijdag- en zaterdagavond: 20.00 uur en zaterdagmiddag: 13.30 uur. Entree: €10\,-. Kaarten in de voorverkoop online op www.dorpshuisdewijk.nl en bij Dorpshuis De Wijk\, Dorpsstraat 78\, de Wijk. Zaal open 30 min. voor aanvang Info: toneel@rederijkerskamerdebloem.nl reserveringen: info@dorpshuisdewijk.nl tel. 0522 444200 \n\n\n    				\n		\n					\n					\n									\n				\n\n		\n						\n															Ticket betellen
URL:https://www.rederijkerskamerdebloem.nl/index.php/event/tis-weer-prijs-voorstelling-op-11-april-2026/
LOCATION:Dorpshuis de Wijk\, Dorpsstraat 78\, 7958 AW\, de Wijk\, Nederland
ATTACH;FMTTYPE=image/jpeg:https://www.rederijkerskamerdebloem.nl/wp-content/uploads/2025/10/3e-poster-klein.jpg
END:VEVENT
END:VCALENDAR